Workbook

Sheet Instructions
A1: Instructions: MEF Reassessment and Triage Tool
A2: During an event of unusually long duration or severity, it may be necessary to reassess the status of Mission Essential Functions (MEFs) and triage them into tiers, in order to best deploy available resources. This tool walks the user through a decision flow for each user-input MEF. Based on user responses, the tool will recommend an assignment of Tier 1 (continue at all costs), Tier 2 (delay) or Tier 3 (pause) for each MEF, as well as suggested documentation and updates.
A4: The tool is located in the next tab, titled "MEF Triage Tool." To use this tool, follow these steps:
A6: 1. Select if you are a state agency or local jurisdiction in the blue box in row 5, highlighted in red below.
A14: 2. Enter each MEF that you would like to reassess in the blue box in row 8, highlighted in red below.
A15: Enter up to 10 MEFs at a time, separated by semicolons.
A27: The tool will the auto-populate with a new row for each entered MEF below the heading "Decision Flow," as shown below.
A29: 3. For each MEF, use the drop-down menus (e.g. red highlighted boxes below) to answer 'Yes' or 'No' to each question.
A30: Work left to right, assessing one MEF at a time. Add any decision-relevant information in the "Notes" row below each response.
A48: 4. Once all relevant questions have been answered, the tool will provide a suggested Tier assignment or action.
A49: These boxes are colored red (Tier 1), yellow (Tier 2 or 3), or green (documentation), depending on the suggested action.
A51: An example of what the decision flow might look like for three example MEFs is provided below.
A69: 5. Repeat for each MEF, answering questions until the tool provides a suggested assignment or action (colored boxes).

Sheet MEF Triage Tool
A1: MEF Reassessment and Triage Tool
A2: Use this tool to reassess the status of MEFs and triage into tiers during an event of long duration or severity. | F2: Key
A3: Action items suggested from your decision flow responses will be highlighted (see key at right) | F3: Tier 1 (Continue at all costs)
F4: Tier 2 (Delayed)
A5: Are you a state agency or local jurisdiction? | C5: Local jurisdiction | F5: Tier 3 (Paused)
F6: Documentation & Updates
A7: =IF(C5="State agency","Input state MEFs to assess:",IF(C5="Local jurisdiction","Input local MEFs to assess:","Input MEFs to assess:")) -> Input local MEFs to assess:
A8: Alert & Warn the Public; Coordinate Emergency Operations Center; MEF3; MEF4; MEF5; MEF6; MEF7; MEF8; MEF9; MEF10
A9: enter up to 10 MEFs, separated by semicolons, e.g. MEF1; MEF2; MEF3
A11: Decision Flow:
A12: =MEF_DataTable!A18 -> Alert & Warn the Public | B12: =IF(A13="Respond here ->", "Is there a life safety or legal mandate?", 0) -> Is there a life safety or legal mandate? | C12: =_xlfn.IFNA(VLOOKUP(B12&B13,MEF_DataTable!$C$2:$D$15,2,0),"") -> Assign Tier 1, continue at all costs | D12: =_xlfn.IFNA(VLOOKUP(C12&C13,MEF_DataTable!$C$2:$D$15,2,0),"") -> Document MEF Status and Update Incident Action Plan | E12: =_xlfn.IFNA(VLOOKUP(D12&D13,MEF_DataTable!$C$2:$D$15,2,0),"") | F12: =_xlfn.IFNA(VLOOKUP(E12&E13,MEF_DataTable!$C$2:$D$15,2,0),"") | G12: =_xlfn.IFNA(VLOOKUP(F12&F13,MEF_DataTable!$C$2:$D$15,2,0),"")
A13: =IF(A12=0,0,"Respond here ->") -> Respond here -> | B13: Yes
A14: =IF($A12=0,0,"Notes") -> Notes
A15: =MEF_DataTable!A19 -> Coordinate Emergency Operations Center | B15: =IF(A16="Respond here ->", "Is there a life safety or legal mandate?", 0) -> Is there a life safety or legal mandate? | C15: =_xlfn.IFNA(VLOOKUP(B15&B16,MEF_DataTable!$C$2:$D$15,2,0),"") -> Is it high importance, 0-Hour RTO? | D15: =_xlfn.IFNA(VLOOKUP(C15&C16,MEF_DataTable!$C$2:$D$15,2,0),"") | E15: =_xlfn.IFNA(VLOOKUP(D15&D16,MEF_DataTable!$C$2:$D$15,2,0),"") | F15: =_xlfn.IFNA(VLOOKUP(E15&E16,MEF_DataTable!$C$2:$D$15,2,0),"") | G15: =_xlfn.IFNA(VLOOKUP(F15&F16,MEF_DataTable!$C$2:$D$15,2,0),"")
A16: =IF(A15=0,0,"Respond here ->") -> Respond here -> | B16: No
A17: =IF($A15=0,0,"Notes") -> Notes
A18: =MEF_DataTable!A20 -> MEF3 | B18: =IF(A19="Respond here ->", "Is there a life safety or legal mandate?", 0) -> Is there a life safety or legal mandate? | C18: =_xlfn.IFNA(VLOOKUP(B18&B19,MEF_DataTable!$C$2:$D$15,2,0),"") | D18: =_xlfn.IFNA(VLOOKUP(C18&C19,MEF_DataTable!$C$2:$D$15,2,0),"") | E18: =_xlfn.IFNA(VLOOKUP(D18&D19,MEF_DataTable!$C$2:$D$15,2,0),"") | F18: =_xlfn.IFNA(VLOOKUP(E18&E19,MEF_DataTable!$C$2:$D$15,2,0),"") | G18: =_xlfn.IFNA(VLOOKUP(F18&F19,MEF_DataTable!$C$2:$D$15,2,0),"") | H18: =_xlfn.IFNA(VLOOKUP(G18&G19,MEF_DataTable!$C$2:$D$15,2,0),"")
A19: =IF(A18=0,0,"Respond here ->") -> Respond here ->
A20: =IF($A18=0,0,"Notes") -> Notes
A21: =MEF_DataTable!A21 -> MEF4 | B21: =IF(A22="Respond here ->", "Is there a life safety or legal mandate?", 0) -> Is there a life safety or legal mandate? | C21: =_xlfn.IFNA(VLOOKUP(B21&B22,MEF_DataTable!$C$2:$D$15,2,0),"") | D21: =_xlfn.IFNA(VLOOKUP(C21&C22,MEF_DataTable!$C$2:$D$15,2,0),"") | E21: =_xlfn.IFNA(VLOOKUP(D21&D22,MEF_DataTable!$C$2:$D$15,2,0),"") | F21: =_xlfn.IFNA(VLOOKUP(E21&E22,MEF_DataTable!$C$2:$D$15,2,0),"") | G21: =_xlfn.IFNA(VLOOKUP(F21&F22,MEF_DataTable!$C$2:$D$15,2,0),"")
A22: =IF(A21=0,0,"Respond here ->") -> Respond here ->
A23: =IF($A21=0,0,"Notes") -> Notes
A24: =MEF_DataTable!A22 -> MEF5 | B24: =IF(A25="Respond here ->", "Is there a life safety or legal mandate?", 0) -> Is there a life safety or legal mandate? | C24: =_xlfn.IFNA(VLOOKUP(B24&B25,MEF_DataTable!$C$2:$D$15,2,0),"") | D24: =_xlfn.IFNA(VLOOKUP(C24&C25,MEF_DataTable!$C$2:$D$15,2,0),"") | E24: =_xlfn.IFNA(VLOOKUP(D24&D25,MEF_DataTable!$C$2:$D$15,2,0),"") | F24: =_xlfn.IFNA(VLOOKUP(E24&E25,MEF_DataTable!$C$2:$D$15,2,0),"") | G24: =_xlfn.IFNA(VLOOKUP(F24&F25,MEF_DataTable!$C$2:$D$15,2,0),"")
A25: =IF(A24=0,0,"Respond here ->") -> Respond here ->
A26: =IF($A24=0,0,"Notes") -> Notes
A27: =MEF_DataTable!A23 -> MEF6 | B27: =IF(A28="Respond here ->", "Is there a life safety or legal mandate?", 0) -> Is there a life safety or legal mandate? | C27: =_xlfn.IFNA(VLOOKUP(B27&B28,MEF_DataTable!$C$2:$D$15,2,0),"") | D27: =_xlfn.IFNA(VLOOKUP(C27&C28,MEF_DataTable!$C$2:$D$15,2,0),"") | E27: =_xlfn.IFNA(VLOOKUP(D27&D28,MEF_DataTable!$C$2:$D$15,2,0),"") | F27: =_xlfn.IFNA(VLOOKUP(E27&E28,MEF_DataTable!$C$2:$D$15,2,0),"") | G27: =_xlfn.IFNA(VLOOKUP(F27&F28,MEF_DataTable!$C$2:$D$15,2,0),"")
A28: =IF(A27=0,0,"Respond here ->") -> Respond here ->
A29: =IF($A27=0,0,"Notes") -> Notes
A30: =MEF_DataTable!A24 -> MEF7 | B30: =IF(A31="Respond here ->", "Is there a life safety or legal mandate?", 0) -> Is there a life safety or legal mandate? | C30: =_xlfn.IFNA(VLOOKUP(B30&B31,MEF_DataTable!$C$2:$D$15,2,0),"") | D30: =_xlfn.IFNA(VLOOKUP(C30&C31,MEF_DataTable!$C$2:$D$15,2,0),"") | E30: =_xlfn.IFNA(VLOOKUP(D30&D31,MEF_DataTable!$C$2:$D$15,2,0),"") | F30: =_xlfn.IFNA(VLOOKUP(E30&E31,MEF_DataTable!$C$2:$D$15,2,0),"") | G30: =_xlfn.IFNA(VLOOKUP(F30&F31,MEF_DataTable!$C$2:$D$15,2,0),"")
A31: =IF(A30=0,0,"Respond here ->") -> Respond here ->
A32: =IF($A30=0,0,"Notes") -> Notes
A33: =MEF_DataTable!A25 -> MEF8 | B33: =IF(A34="Respond here ->", "Is there a life safety or legal mandate?", 0) -> Is there a life safety or legal mandate? | C33: =_xlfn.IFNA(VLOOKUP(B33&B34,MEF_DataTable!$C$2:$D$15,2,0),"") | D33: =_xlfn.IFNA(VLOOKUP(C33&C34,MEF_DataTable!$C$2:$D$15,2,0),"") | E33: =_xlfn.IFNA(VLOOKUP(D33&D34,MEF_DataTable!$C$2:$D$15,2,0),"") | F33: =_xlfn.IFNA(VLOOKUP(E33&E34,MEF_DataTable!$C$2:$D$15,2,0),"") | G33: =_xlfn.IFNA(VLOOKUP(F33&F34,MEF_DataTable!$C$2:$D$15,2,0),"")
A34: =IF(A33=0,0,"Respond here ->") -> Respond here ->
A35: =IF($A33=0,0,"Notes") -> Notes
A36: =MEF_DataTable!A26 -> MEF9 | B36: =IF(A37="Respond here ->", "Is there a life safety or legal mandate?", 0) -> Is there a life safety or legal mandate? | C36: =_xlfn.IFNA(VLOOKUP(B36&B37,MEF_DataTable!$C$2:$D$15,2,0),"") | D36: =_xlfn.IFNA(VLOOKUP(C36&C37,MEF_DataTable!$C$2:$D$15,2,0),"") | E36: =_xlfn.IFNA(VLOOKUP(D36&D37,MEF_DataTable!$C$2:$D$15,2,0),"") | F36: =_xlfn.IFNA(VLOOKUP(E36&E37,MEF_DataTable!$C$2:$D$15,2,0),"") | G36: =_xlfn.IFNA(VLOOKUP(F36&F37,MEF_DataTable!$C$2:$D$15,2,0),"")
A37: =IF(A36=0,0,"Respond here ->") -> Respond here ->
A38: =IF($A36=0,0,"Notes") -> Notes
A39: =MEF_DataTable!A27 -> MEF10 | B39: =IF(A40="Respond here ->", "Is there a life safety or legal mandate?", 0) -> Is there a life safety or legal mandate? | C39: =_xlfn.IFNA(VLOOKUP(B39&B40,MEF_DataTable!$C$2:$D$15,2,0),"") | D39: =_xlfn.IFNA(VLOOKUP(C39&C40,MEF_DataTable!$C$2:$D$15,2,0),"") | E39: =_xlfn.IFNA(VLOOKUP(D39&D40,MEF_DataTable!$C$2:$D$15,2,0),"") | F39: =_xlfn.IFNA(VLOOKUP(E39&E40,MEF_DataTable!$C$2:$D$15,2,0),"") | G39: =_xlfn.IFNA(VLOOKUP(F39&F40,MEF_DataTable!$C$2:$D$15,2,0),"")
A40: =IF(A39=0,0,"Respond here ->") -> Respond here ->
A41: =IF($A39=0,0,"Notes") -> Notes

Sheet MEF_DataTable
A1: Option | B1: Response | C1: Lookup | D1: Outcome
A2: Is there a life safety or legal mandate? | B2: Yes | C2: =CONCATENATE(A2,B2) -> Is there a life safety or legal mandate?Yes | D2: Assign Tier 1, continue at all costs
A3: Is there a life safety or legal mandate? | B3: No | C3: =CONCATENATE(A3,B3) -> Is there a life safety or legal mandate?No | D3: Is it high importance, 0-Hour RTO?
A4: Is it high importance, 0-Hour RTO? | B4: Yes | C4: =CONCATENATE(A4,B4) -> Is it high importance, 0-Hour RTO?Yes | D4: Has there been infrastructure loss (water, power, transportation)?
A5: Is it high importance, 0-Hour RTO? | B5: No | C5: =CONCATENATE(A5,B5) -> Is it high importance, 0-Hour RTO?No | D5: Can the MEF be temporarily paused?
A6: Can the MEF be temporarily paused? | B6: Yes | C6: =CONCATENATE(A6,B6) -> Can the MEF be temporarily paused?Yes | D6: Assign Tier 2 (Delayed) or Tier 3 (Paused)
A7: Can the MEF be temporarily paused? | B7: No | C7: =CONCATENATE(A7,B7) -> Can the MEF be temporarily paused?No | D7: Assess dependencies for degradation
A8: Has there been infrastructure loss (water, power, transportation)? | B8: Yes | C8: =CONCATENATE(A8,B8) -> Has there been infrastructure loss (water, power, transportation)?Yes | D8: Are there available resources (staffing, IT, facilities) to continue operations?
A9: Has there been infrastructure loss (water, power, transportation)? | B9: No | C9: =CONCATENATE(A9,B9) -> Has there been infrastructure loss (water, power, transportation)?No | D9: Are there available resources (staffing, IT, facilities) to continue operations?
A10: Are there available resources (staffing, IT, facilities) to continue operations? | B10: Yes | C10: =CONCATENATE(A10,B10) -> Are there available resources (staffing, IT, facilities) to continue operations?Yes | D10: Assign Tier 1 and continue with available resources
A11: Are there available resources (staffing, IT, facilities) to continue operations? | B11: No | C11: =CONCATENATE(A11,B11) -> Are there available resources (staffing, IT, facilities) to continue operations?No | D11: Assign Tier 1 and modify MEF delivery
A12: Assign Tier 1, continue at all costs | C12: =CONCATENATE(A12,B12) -> Assign Tier 1, continue at all costs | D12: Document MEF Status and Update Incident Action Plan
A13: Assign Tier 2 (Delayed) or Tier 3 (Paused) | C13: =CONCATENATE(A13,B13) -> Assign Tier 2 (Delayed) or Tier 3 (Paused) | D13: Document MEF Status and Update Incident Action Plan
A14: Assign Tier 1 and continue with available resources | C14: =CONCATENATE(A14,B14) -> Assign Tier 1 and continue with available resources | D14: Document MEF Status and Update Incident Action Plan
A15: Assign Tier 1 and modify MEF delivery | C15: =CONCATENATE(A15,B15) -> Assign Tier 1 and modify MEF delivery | D15: Document MEF Status and Update Incident Action Plan
A17: MEF List
A18: {=IFERROR(_xlfn.TEXTSPLIT('MEF Triage Tool'!A8,,"; "),0)} -> Alert & Warn the Public
A19: Coordinate Emergency Operations Center
A20: MEF3
A21: MEF4
A22: MEF5
A23: MEF6
A24: MEF7
A25: MEF8
A26: MEF9
A27: MEF10
